BEGIN:VCALENDAR
VERSION:2.0
PRODID:http://www.pastoraler-raum-tholey.de
BEGIN:VEVENT
UID:9ec6ceb5-3ec3-11f1-a3e9-0242ac11002b-1778072400000-de
DTSTAMP:20260423T032212Z
DTSTART:20260506T130000Z
DTEND:20260506T134000Z
SUMMARY;LANGUAGE=de: Maiandacht der kfd St. Wendeler Land an der Härtelwaldquelle 
END:VEVENT
END:VCALENDAR
