BEGIN:VCALENDAR
VERSION:2.0
PRODID:http://www.pastoraler-raum-tholey.de
BEGIN:VEVENT
UID:28501c0e-3c68-11f1-a3e9-0242ac11002b-1785225600000-de
DTSTAMP:20260420T032227Z
DTSTART:20260728T080000Z
DTEND:20260728T084500Z
SUMMARY;LANGUAGE=de: Wortgottesfeier mit Krankenkommunion im Seniorenheim Tholey (Jahnstraße) 
END:VEVENT
END:VCALENDAR
