BEGIN:VCALENDAR
VERSION:2.0
PRODID:http://www.pastoraler-raum-tholey.de
BEGIN:VEVENT
UID:178f6cd4-3f8d-11f1-a3e9-0242ac11002b-1785601800000-de
DTSTAMP:20260424T032424Z
DTSTART:20260801T163000Z
DTEND:20260801T171500Z
SUMMARY;LANGUAGE=de: Wortgottesfeier mit Kommunionausteilung 
END:VEVENT
END:VCALENDAR
