BEGIN:VCALENDAR
VERSION:2.0
PRODID:http://www.pastoraler-raum-tholey.de
BEGIN:VEVENT
UID:1163aeb1-3f8d-11f1-a3e9-0242ac11002b-1780129800000-de
DTSTAMP:20260424T032413Z
DTSTART:20260530T083000Z
DTEND:20260530T091500Z
SUMMARY;LANGUAGE=de:Trauerfeier mit anschl. Bestattung, Friedhof Primstal
END:VEVENT
END:VCALENDAR
